Workbook

Sheet CNS
A1: PORCENTAJES DE IMPLEMENTACIÓN REGIONAL
C5: AIDC: | D5: =+AIDC!J70 -> 0.48756219 | I5: ADS-B | J5: =+SURV!C25 -> 0.50454545 | N5: ADSC/CPDLC: | O5: =+CPDLC!D19 -> 0.82352941
C7: AMHS | D7: =+AMHS!C25 -> 0.75 | I7: surv | J7: =+SURV!D25 -> 0.82727273
C35: Tecnología | D35: % Implementación
C36: AIDC | D36: =D5 -> 0.48756219
C37: AMHS | D37: =D7 -> 0.75
C38: ADS-B | D38: =J5 -> 0.50454545
C39: SURV | D39: =J7 -> 0.82727273
C40: CPDLC | D40: =O5 -> 0.82352941

Sheet AIDC
A1: No | B1: Interface | C1: State/ Organization | D1: Adjacent State or | E1: Bilateral Agreement or ICD | F1: Status | G1: Notificación | H1: Coordinación | I1: Transferencia | J1: % Implementation
F2: NAM/ICD | G2: 30 | H2: 40 | I2: 30 | Z2: Estado | AA2: Cantidad de interfaces
A3: 1 | B3: Belize-Merida | C3: Belize | D3: Mexico | E3: NAM-ICD Version D | F3: Implementing | G3: 0 | H3: 0 | I3: 0 | J3: =+(G3+H3+I3)/3 -> 0 | Z3: Operational | AA3: =COUNTIF(F3:F69,"Operational*") -> 41
A4: 2 | B4: Boston-Toronto | C4: Canada | D4: United States | E4: NAM-ICD Version F | F4: Operational | G4: 1 | H4: 1 | I4: 1 | J4: =+(G4+H4+I4)/3 -> 1 | Z4: Testing | AA4: =COUNTIF(F3:F69,"Testing") -> 11
A5: 3 | B5: Cleveland-Montreal | C5: Canada | D5: United States | E5: NAM-ICD Version F | F5: Operational | G5: 1 | H5: 1 | I5: 1 | J5: =+(G5+H5+I5)/3 -> 1 | Z5: Planned | AA5: =COUNTIF(F3:F69,"Planned") -> 12
A6: 4 | B6: Edmonton-Reykjavik | C6: Canada | D6: Iceland | E6: NAT ICD | F6: Operational | G6: 0 | H6: 0 | I6: 0 | J6: =+(G6+H6+I6)/3 -> 0 | Z6: Implementing | AA6: =COUNTIF(F3:F69,"Implementing") -> 1
A7: 5 | B7: Edmonton-Salt Lake City | C7: Canada | D7: United States | E7: NAM-ICD Version E | F7: Operational/ | G7: 1 | H7: 1 | I7: 1 | J7: =+(G7+H7+I7)/3 -> 1 | Z7: Not planned | AA7: =COUNTIF(F3:F69,"Not planned") -> 2
A8: 6 | B8: Edmonton-Seattle | C8: Canada | D8: United States | E8: NAM-ICD Version E | F8: Operational | G8: 1 | H8: 1 | I8: 1 | J8: =+(G8+H8+I8)/3 -> 1 | Z8: Nota: "Operational" incluye la fila 7 registrada como "Operational/".
A9: 7 | B9: Gander-New York | C9: Canada | D9: United States | E9: NAT ICD | F9: Operational | G9: 1 | H9: 1 | I9: 1 | J9: =+(G9+H9+I9)/3 -> 1
A10: 8 | B10: Gander-Prestwick | C10: Canada | D10: SD | E10: NAT ICD | F10: Operational | G10: 1 | H10: 1 | I10: 1 | J10: =+(G10+H10+I10)/3 -> 1
A11: 9 | B11: Gander-Reykjavik | C11: Canada | D11: Iceland | E11: NAT ICD | F11: Operational | G11: 1 | H11: 1 | I11: 1 | J11: =+(G11+H11+I11)/3 -> 1
A12: 10 | B12: Gander-Santa Maria | C12: Canada | D12: SD | E12: NAT ICD | F12: Operational | G12: 1 | H12: 1 | I12: 1 | J12: =+(G12+H12+I12)/3 -> 1
A13: 11 | B13: Moncton-New York | C13: Canada | D13: United States | E13: NAM-ICD Version E | F13: Testing | G13: 1 | H13: 1 | I13: 1 | J13: =+(G13+H13+I13)/3 -> 1
A14: 12 | B14: Salt Lake City-Vancouver | C14: Canada | D14: United States | E14: NAM-ICD Version E | F14: Operational | G14: 1 | H14: 1 | I14: 1 | J14: =+(G14+H14+I14)/3 -> 1
A15: 13 | B15: Belize-CENAMER | C15: COCESNA | D15: Belize | E15: PAC ICD | F15: Testing | G15: 0 | H15: 0 | I15: 0 | J15: =+(G15+H15+I15)/3 -> 0
A16: 14 | B16: Bogota-CENAMER | C16: COCESNA | D16: Colombia | E16: PAC ICD | F16: Testing | G16: 0 | H16: 0 | I16: 0 | J16: =+(G16+H16+I16)/3 -> 0
A17: 15 | B17: CENAMER-Costa Rica | C17: COCESNA | D17: Costa Rica | E17: PAC ICD | F17: Testing | G17: 0 | H17: 0 | I17: 0 | J17: =+(G17+H17+I17)/3 -> 0
A18: 16 | B18: CENAMER-El Salvador | C18: COCESNA | D18: El Salvador | E18: PAC ICD | F18: Operational | G18: 1 | H18: 1 | I18: 0 | J18: =+(G18+H18+I18)/3 -> 0.66666667
A19: 17 | B19: CENAMER-Guatemala | C19: COCESNA | D19: Guatemala | E19: PAC ICD | F19: Operational | G19: 1 | H19: 1 | I19: 0 | J19: =+(G19+H19+I19)/3 -> 0.66666667
A20: 18 | B20: CENAMER-Guayaquil | C20: COCESNA | D20: Ecuador | E20: PAC ICD | F20: Testing | G20: 1 | H20: 1 | I20: 1 | J20: =+(G20+H20+I20)/3 -> 1
... A29: 27 | B29: Havana-Merida | C29: Cuba | D29: Mexico | E29: NAM-ICD Version E | F29: Operational | G29: 1 | H29: 1 | I29: 0 | J29: =+(G29+H29+I29)/3 -> 0.66666667
A30: 28 | B30: Havana-Miami | C30: Cuba | D30: United States | E30: NAM-ICD Version E | F30: Operational | G30: 1 | H30: 1 | I30: 0 | J30: =+(G30+H30+I30)/3 -> 0.66666667 | Z30: Estado/Organización | AA30: % Implementación promedio
A31: 29 | B31: Havana-Port au Prince | C31: Cuba | D31: Haiti | E31: 0 | F31: Not planned | G31: 0 | H31: 0 | I31: 0 | J31: =+(G31+H31+I31)/3 -> 0 | Z31: Belize | AA31: =AVERAGEIF($C$3:$C$69,Z31,$J$3:$J$69) -> 0
A32: 30 | B32: Curacao-Maiquetia | C32: Curacao | D32: Venezuela | E32: 0 | F32: Planned | G32: 0 | H32: 0 | I32: 0 | J32: =+(G32+H32+I32)/3 -> 0 | Z32: Canada | AA32: =AVERAGEIF($C$3:$C$69,Z32,$J$3:$J$69) -> 0.90909091
A33: 31 | B33: Santo Domingo | C33: Dominican Republic | D33: Haiti | E33: 0 | F33: Not planned | G33: 0 | H33: 0 | I33: 0 | J33: =+(G33+H33+I33)/3 -> 0 | Z33: COCESNA | AA33: =AVERAGEIF($C$3:$C$69,Z33,$J$3:$J$69) -> 0.41666667
A34: 32 | B34: El Salvador-Guatemala | C34: El Salvador | D34: Guatemala | E34: PAC ICD | F34: Planned | G34: 0 | H34: 0 | I34: 0 | J34: =+(G34+H34+I34)/3 -> 0 | Z34: Costa Rica | AA34: =AVERAGEIF($C$3:$C$69,Z34,$J$3:$J$69) -> 0
A35: 33 | B35: El Salvador-Nicaragua | C35: El Salvador | D35: Nicaragua | E35: PAC ICD | F35: Planned | G35: 0 | H35: 0 | I35: 0 | J35: =+(G35+H35+I35)/3 -> 0 | Z35: Cuba | AA35: =AVERAGEIF($C$3:$C$69,Z35,$J$3:$J$69) -> 0.33333333
A36: 34 | B36: Belize-Guatemala | C36: Guatemala | D36: Belize | E36: PAC ICD | F36: Planned | G36: 0 | H36: 0 | I36: 0 | J36: =+(G36+H36+I36)/3 -> 0 | Z36: Curacao | AA36: =AVERAGEIF($C$3:$C$69,Z36,$J$3:$J$69) -> 0
A37: 35 | B37: Barranquilla-Kingston | C37: Jamaica | D37: Colombia | E37: PAC ICD | F37: Testing | G37: 0 | H37: 0 | I37: 0 | J37: =+(G37+H37+I37)/3 -> 0 | Z37: Dominican Republic | AA37: =AVERAGEIF($C$3:$C$69,Z37,$J$3:$J$69) -> 0
A38: 36 | B38: Curacao-Kingston | C38: Jamaica | D38: Curacao | E38: PAN | F38: Planned | G38: 0 | H38: 0 | I38: 0 | J38: =+(G38+H38+I38)/3 -> 0 | Z38: El Salvador | AA38: =AVERAGEIF($C$3:$C$69,Z38,$J$3:$J$69) -> 0
A39: 37 | B39: Kingston-Panama | C39: Jamaica | D39: Panama | E39: PAN ICD V.1 | F39: Testing | G39: 0 | H39: 0 | I39: 0 | J39: =+(G39+H39+I39)/3 -> 0 | Z39: Guatemala | AA39: =AVERAGEIF($C$3:$C$69,Z39,$J$3:$J$69) -> 0
A40: 38 | B40: Albuquerque-Mazatlán | C40: Mexico | D40: United States | E40: NAM-ICD Version E | F40: Operational | G40: 1 | H40: 1 | I40: 0 | J40: =+(G40+H40+I40)/3 -> 0.66666667 | Z40: Jamaica | AA40: =AVERAGEIF($C$3:$C$69,Z40,$J$3:$J$69) -> 0
A41: 39 | B41: Mazatlan-México | C41: Mexico | D41: Mexico | E41: LOA | F41: Operational | G41: 1 | H41: 1 | I41: 0 | J41: =+(G41+H41+I41)/3 -> 0.66666667 | Z41: Mexico | AA41: =AVERAGEIF($C$3:$C$69,Z41,$J$3:$J$69) -> 0.66666667
A42: 40 | B42: Mazatlán-Monterrey | C42: Mexico | D42: Mexico | E42: LOA | F42: Operational | G42: 1 | H42: 1 | I42: 0 | J42: =+(G42+H42+I42)/3 -> 0.66666667 | Z42: Nicaragua | AA42: =AVERAGEIF($C$3:$C$69,Z42,$J$3:$J$69) -> 0
A43: 41 | B43: Mazatlán-Oakland | C43: Mexico | D43: United States | E43: PAN ICD V.1 | F43: Operational | G43: 1 | H43: 1 | I43: 0 | J43: =+(G43+H43+I43)/3 -> 0.66666667 | Z43: Republic | AA43: =AVERAGEIF($C$3:$C$69,Z43,$J$3:$J$69) -> 0
A44: 42 | B44: Mérida-México | C44: Mexico | D44: Mexico | E44: LOA | F44: Operational | G44: 1 | H44: 1 | I44: 0 | J44: =+(G44+H44+I44)/3 -> 0.66666667 | Z44: Tobago | AA44: =AVERAGEIF($C$3:$C$69,Z44,$J$3:$J$69) -> 0
A45: 43 | B45: Mérida-Monterrey | C45: Mexico | D45: Mexico | E45: LOA | F45: Operational | G45: 1 | H45: 1 | I45: 0 | J45: =+(G45+H45+I45)/3 -> 0.66666667 | Z45: Trinidad and Tobago | AA45: =AVERAGEIF($C$3:$C$69,Z45,$J$3:$J$69) -> 0
... A47: 45 | B47: Nicaragua-San José | C47: Nicaragua | D47: Costa Rica | E47: PAC ICD | F47: Planned | G47: 0 | H47: 0 | I47: 0 | J47: =+(G47+H47+I47)/3 -> 0 | Z47: United States | AA47: =AVERAGEIF($C$3:$C$69,Z47,$J$3:$J$69) -> 0.68627451
A48: 46 | B48: Curacao-Santo Domingo | C48: Republic | D48: Curacao | E48: PAN ICD V.1 | F48: Planned | G48: 0 | H48: 0 | I48: 0 | J48: =+(G48+H48+I48)/3 -> 0
A49: 47 | B49: Maiquetia-PIARCO | C49: Tobago | D49: Venezuela | E49: 0 | F49: Planned | G49: 0 | H49: 0 | I49: 0 | J49: =+(G49+H49+I49)/3 -> 0
A50: 48 | B50: New York-PIARCO | C50: Tobago | D50: United States | E50: PAC ICD | F50: Testing | G50: 0 | H50: 0 | I50: 0 | J50: =+(G50+H50+I50)/3 -> 0
A51: 49 | B51: PIARCO-San Juan/Miami | C51: Trinidad and Tobago | D51: United States | E51: NAM-ICD Version D | F51: Testing | G51: 0 | H51: 0 | I51: 0 | J51: =+(G51+H51+I51)/3 -> 0
A52: 50 | B52: French Guyanne- PIARCO | C52: Trinidad and Tobago | D52: French Guyanne | E52: PAC ICD | F52: Planned | G52: 0 | H52: 0 | I52: 0 | J52: =+(G52+H52+I52)/3 -> 0
A53: 51 | B53: Albuquerque-Monterrey | C53: United States | D53: Mexico | E53: NAM-ICD Version E | F53: Operational | G53: 0 | H53: 0 | I53: 0 | J53: =+(G53+H53+I53)/3 -> 0
A54: 52 | B54: Anchorage-Edmonton | C54: United States | D54: Canada | E54: NAM-ICD Version E | F54: Operational | G54: 1 | H54: 1 | I54: 0 | J54: =+(G54+H54+I54)/3 -> 0.66666667
A55: 53 | B55: Anchorage-Vancouver | C55: United States | D55: Canada | E55: NAM-ICD Version E | F55: Operational | G55: 1 | H55: 1 | I55: 0 | J55: =+(G55+H55+I55)/3 -> 0.66666667
A56: 54 | B56: Boston-Moncton | C56: United States | D56: Canada | E56: NAM-ICD Version E | F56: Operational | G56: 1 | H56: 1 | I56: 0 | J56: =+(G56+H56+I56)/3 -> 0.66666667
A57: 55 | B57: Boston-Montreal | C57: United States | D57: Canada | E57: NAM-ICD Version E | F57: Operational | G57: 1 | H57: 1 | I57: 0 | J57: =+(G57+H57+I57)/3 -> 0.66666667
A58: 56 | B58: Cleveland-Toronto | C58: United States | D58: Canada | E58: NAM-ICD Version E | F58: Operational | G58: 1 | H58: 1 | I58: 0 | J58: =+(G58+H58+I58)/3 -> 0.66666667
A59: 57 | B59: Houston-Merida | C59: United States | D59: Mexico | E59: NAM-ICD Version E | F59: Operational | G59: 1 | H59: 1 | I59: 0 | J59: =+(G59+H59+I59)/3 -> 0.66666667
A60: 58 | B60: Houston-Monterrey | C60: United States | D60: Mexico | E60: NAM-ICD Version E | F60: Operational | G60: 1 | H60: 1 | I60: 0 | J60: =+(G60+H60+I60)/3 -> 0.66666667
A61: 59 | B61: Los Angeles-Mazatlan | C61: United States | D61: Mexico | E61: NAM-ICD Version E | F61: Operational | G61: 1 | H61: 1 | I61: 0 | J61: =+(G61+H61+I61)/3 -> 0.66666667
... A69: 67 | B69: Seattle-Vancouver | C69: United States | D69: Canada | E69: NAM-ICD Version E | F69: Operational | G69: 1 | H69: 1 | I69: 1 | J69: =+(G69+H69+I69)/3 -> 1
J70: =SUM(J3:J69)/67 -> 0.48756219

Sheet AMHS
A2: No | B2: State | C2: AMHS Implementation | D2: Observations
A3: 1 | B3: Antigua and Barbuda | C3: 1
A4: 2 | B4: Bahamas | C4: 1
A5: 3 | B5: Barbados | C5: 1
A6: 4 | B6: Belize | C6: 1
A7: 5 | B7: Canada | C7: 1
A8: 6 | B8: Costa Rica | C8: 1
A9: 7 | B9: Cuba | C9: 1
A10: 8 | B10: Dominica | C10: 1
A11: 9 | B11: Dominican Republic | C11: 1
A12: 10 | B12: El Salvador | C12: 1
A13: 11 | B13: Grenada | C13: 0 | D13: Have an AFTN Channel working through PIARCO AMHS
A14: 12 | B14: Guatemala | C14: 1
A15: 13 | B15: Haiti | C15: 0 | D15: They have an AMHS, but it is not working
A16: 14 | B16: Honduras | C16: 1
A17: 15 | B17: Jamaica | C17: 0.75 | D17: Have an AMHS, but it is working as AFTN system. No any AMHS Channel was configurated.
A18: 16 | B18: Mexico | C18: 0.75 | D18: Have an AMHS, but it is working as AFTN system. No any AMHS Channel was configurated.
A19: 17 | B19: Nicaragua | C19: 1
A20: 18 | B20: Saint Kitts and Nevis | C20: 0 | D20: Have an AFTN Channel working through PIARCO AMHS
A21: 19 | B21: Saint Lucia | C21: 0 | D21: Have an AFTN Channel working through PIARCO AMHS
A22: 20 | B22: Saint Vincent and the Grenadines | C22: 0 | D22: Have an AFTN Channel working through PIARCO AMHS
A23: 21 | B23: Trinidad and Tobago | C23: 1
A24: 22 | B24: United States | C24: 1
C25: =SUM(C3:C24)/22 -> 0.75
B27: Nivel | C27: Cantidad de Estados
B28: Implementado (100%) | C28: =COUNTIF(C3:C24,1) -> 15
B29: Parcial | C29: =COUNTIFS(C3:C24,">0",C3:C24,"<1") -> 2
B30: No implementado (0%) | C30: =COUNTIF(C3:C24,0) -> 5

Sheet SURV
A2: No | B2: State | C2: ADS-B% Implementation | D2: Surveillance Implementation | E2: Observations
A3: 1 | B3: Antigua and Barbuda | C3: 0.5 | D3: 1
A4: 2 | B4: Bahamas | C4: 0 | D4: 1
A5: 3 | B5: Barbados | C5: 0.4 | D5: 1
A6: 4 | B6: Belize | C6: 1 | D6: 1
A7: 5 | B7: Canada | C7: 1 | D7: 1
A8: 6 | B8: Costa Rica | C8: 1 | D8: 1
A9: 7 | B9: Cuba | C9: 0.2 | D9: 1
A10: 8 | B10: Dominica | C10: 0 | D10: 1
A11: 9 | B11: Dominican Republic | C11: 0.2 | D11: 1
A12: 10 | B12: El Salvador | C12: 1 | D12: 1
A13: 11 | B13: Grenada | C13: 0 | D13: 0 | E13: No any survaillance facility working
A14: 12 | B14: Guatemala | C14: 1 | D14: 1
A15: 13 | B15: Haiti | C15: 0.2 | D15: 0.2 | E15: Haiti has a radar and ADS-B without operaring
A16: 14 | B16: Honduras | C16: 1 | D16: 1
A17: 15 | B17: Jamaica | C17: 0 | D17: 1 | E17: Jamaica has a complete radar coverage, not ADS-B.
A18: 16 | B18: Mexico | C18: 0.6 | D18: 1 | E18: ADS-B is not yet integrate in the ATC system
A19: 17 | B19: Nicaragua | C19: 1 | D19: 1
A20: 18 | B20: Saint Kitts and Nevis | C20: 0 | D20: 0 | E20: No any survaillance facility working
A21: 19 | B21: Saint Lucia | C21: 0 | D21: 0 | E21: No any survaillance facility working
A22: 20 | B22: Saint Vincent and the Grenadines | C22: 0 | D22: 1
A23: 21 | B23: Trinidad and Tobago | C23: 1 | D23: 1
A24: 22 | B24: United States | C24: 1 | D24: 1
C25: =SUM(C3:C24)/22 -> 0.50454545 | D25: =SUM(D3:D24)/22 -> 0.82727273
B27: Indicador | C27: % Regional
B28: ADS-B | C28: =C25 -> 0.50454545
B29: Vigilancia | C29: =D25 -> 0.82727273

Sheet CPDLC
A1: No | B1: FIR REGION | C1: ADSC/CPDLC | D1: % Implementation
A2: 1 | B2: Central American CAR | C2: 1 | D2: =+C2 -> 1
A3: 2 | B3: Curacao CAR | C3: 0 | D3: =+C3 -> 0
A4: 3 | B4: Mazatlan Oceanic CAR | C4: 0 | D4: =+C4 -> 0
A5: 4 | B5: Miami Oceanic CAR | C5: 1 | D5: =+C5 -> 1
A6: 5 | B6: New ork Oceanic (W) CAR | C6: 1 | D6: =+C6 -> 1
A7: 6 | B7: PIARCO CAR | C7: 1 | D7: =+C7 -> 1
A8: 7 | B8: Edmonton NAM | C8: 1 | D8: =+C8 -> 1
A9: 8 | B9: Gander Domestic NAM | C9: 1 | D9: =+C9 -> 1
A10: 9 | B10: Montreal Domestic NAM | C10: 1 | D10: =+C10 -> 1
A11: 10 | B11: Vancouver Domestic NAM | C11: 1 | D11: =+C11 -> 1
A12: 11 | B12: Anchorage /Anchorage Artic NAM | C12: 1 | D12: =+C12 -> 1
A13: 12 | B13: Anchorage continental | C13: 0 | D13: =+C13 -> 0
... A18: 17 | B18: Toronto NAM | C18: 1 | D18: =+C18 -> 1
D19: =SUM(D2:D18)/17 -> 0.82352941
B22: Situación | C22: Cantidad de FIR
B23: Implementado | C23: =COUNTIF(D2:D18,1) -> 14
B24: No implementado | C24: =COUNTIF(D2:D18,0) -> 3

Sheet Sheet3
A2: States | B2: No | C2: Nombre | F2: Grupo | G2: Cantidad
A3: Independent States | B3: 1 | C3: Antigua and Barbuda | F3: Estados independientes + COCESNA | G3: =COUNT(B3:B25) -> 23
B4: 2 | C4: Bahamas | F4: Territorios – Países Bajos | G4: =COUNTA(C27:C32) -> 6
B5: 3 | C5: Barbados | F5: Territorios – Francia | G5: =COUNTA(C33:C37) -> 5
B6: 4 | C6: Belize | F6: Territorios – Reino Unido | G6: =COUNTA(C38:C43) -> 6
B7: 5 | C7: Canada | F7: Territorios – Estados Unidos | G7: =COUNTA(C44:C45) -> 2
B8: 6 | C8: Costa Rica
B9: 7 | C9: Cuba
B10: 8 | C10: Curacaco
B11: 9 | C11: Dominica
B12: 10 | C12: Dominican Republic
B13: 11 | C13: El Salvador
B14: 12 | C14: Grenada
B15: 13 | C15: Guatemala
B16: 14 | C16: Haiti
B17: 15 | C17: Honduras
B18: 16 | C18: Jamaica
B19: 17 | C19: Mexico
... B25: 23 | C25: COCESNA
A26: TERRITORIOS
A27: Netherlands | B27: 1 | C27: Aruba
B28: 2 | C28: Curaçao
B29: 3 | C29: Sint Maarten
B30: 4 | C30: Bonaire
B31: 5 | C31: Saba
B32: 6 | C32: Sint Eustatius
A33: France | B33: 7 | C33: Guadeloupe
B34: 8 | C34: Martinique
B35: 9 | C35: Saint Barthélemy
B36: 10 | C36: Saint Martin
B37: 11 | C37: Saint Pierre et Miquelon
A38: United Kingdom | B38: 12 | C38: Anguilla
B39: 13 | C39: Bermuda
B40: 14 | C40: British Virgin Islands
B41: 15 | C41: Cayman Islands
B42: 16 | C42: Montserrat
B43: 17 | C43: Turks and Caicos Islands
A44: United States | B44: 18 | C44: Puerto Rico
B45: 19 | C45: Virgin Islands

Sheet Sheet4
E1: PSR | J1: ADS-B | K1: ADS-C | L1: MLAT
C2: State(Territory)/Location Estado(Territorio)/Ubicación | D2: ATS Unit Served Unidad ATS Servida | E2: Function Función | F2: Coverage Cobertura (NM) | G2: Function Función | H2: Modes Modos (A,C& S) | I2: Coverage Cobertura (NM) | J2: Function | K2: Function | L2: Function | M2: Remarks Observaciones
C3: 1 | D3: 2 | E3: 3 | F3: 4 | G3: 5 | H3: 6 | I3: 7 | J3: 8 | K3: 9 | L3: 10 | M3: 11
